Workbook

Sheet Расчет объема финансирования
A1: РАСЧЕТ ОБЪЕМА ПОДУШЕВОГО ФИНАНСИРОВАНИЯ ДЛЯ ЧАСТНЫХ ШКОЛ ИНТЕРНАТОВ НА 2027 ГОД
A3: МРП* | B3: 4693
A4: *значение МРП на 2027 год приведено согласно Прогнозу социально-экономического развития Республики Казахстан на 2027-2029 годы. Размер МРП может быть изменен при утверждении соответствующих параметров республиканского бюджета.
A6: 1. Проектная мощность интерната, мест проживания | G6: ← | H6: 1. Проставьте свою проектную мощность в ячейку F6
A8: 2. Территориальная принадлежность (месторасположение: город/село)
G9: ← | H9: 2. Выберите из раскрывающегося списка
A11: 3. Виды доплат (без доплат, экология, радиация)
G12: ← | H12: 3. Выберите из раскрывающегося списка
A14: 4. Группа (в зависимости от нормы расходов на текущее СОДЕРЖАНИЕ организаций среднего образования ) | H14: 4. Выберите из раскрывающегося списка
G15: ← | H15: 1 группа - для Атырауской, Костанайской, Мангистауской областей
H16: 2 группа - для Актюбинской, Алматинской, Западно-Казахстанской, Карагандинской, Туркестанской областей и городов Астана, Алматы и Шымкент
H17: 3 группа - для Восточно-Казахстанской, Павлодарской, Северо-Казахстанской областей
H18: 4 группа - для Акмолинской, Жамбылской областей
H19: 5 группа - для Кызылординской области
A21: 5. Группа (в зависимости от нормы расходов на ПИТАНИЕ обучающихся, проживающих в интернате при школе (школе-интернате частной организации среднего образования ) | H21: 5. Выберите из раскрывающегося списка
G22: ← | H22: 1 группа - для Актюбинской, Жамбылской, Западно-Казахстанской, Кызылординской, Павлодарской, Северо-Казахстанской областей
H23: 2 группа - для Акмолинской, Алматинской, Карагандинской, Костанайской, Туркестанской областей и г.Шымкент
H24: 3 группа - для Восточно-Казахстанской, Атырауской, Мангистауской областей и г.г.Алматы, Астана
A26: 6. Возмещение затрат на строительство/реконструкцию
G27: ← | H27: 6. Выберите из раскрывающегося списка
H28: (только при условии ввода новых мест)
A30: 7. Прогнозный контингент школы, учащихся | P30: 9. Составляющие расчетные суммы подушевого в разрезе уровней и видов, тенге
A31: Для первой смены
A32: Уровень образования | B32: учащиеся общеобразовательных классов, в т.ч.: | D32: учащиеся коррекционных классов | E32: ИТОГО | G32: ← | H32: 7. Проставьте контингент 1-4 классов в ячейки (при наличии)
B33: нормотипичные учащиеся | C33: учащиеся с ООП в общеобразователь-ных классах | G33: ← | H33: 8. Проставьте контингент 5-9 классов в ячейки (при наличии)
A34: 1 - 4 классы | E34: =B34+C34+D34 -> 0 | G34: ← | H34: 9. Проставьте контингент 10-11 классов в ячейки (при наличии)
A35: 5 - 9 классы | E35: =B35+C35+D35 -> 0
A36: 10 - 11 классы | E36: =B36+C36+D36 -> 0
A37: Всего Контингент | B37: =SUM(B34:B36) -> 0 | C37: =SUM(C34:C36) -> 0 | D37: =SUM(D34:D36) -> 0 | E37: =E34+E35+E36 -> 0
A39: Для второй смены
A40: Уровень образования | B40: учащиеся общеобразовательных классов, в т.ч.: | D40: учащиеся коррекционных классов | E40: ИТОГО | G40: ← | H40: 10. Проставьте контингент 1-4 классов в ячейки (при наличии)
B41: нормотипичные учащиеся | C41: учащиеся с ООП в общеобразователь-ных классах | G41: ← | H41: 11. Проставьте контингент 5-9 классов в ячейки (при наличии)
A42: 1 - 4 классы | E42: =B42+C42+D42 -> 0 | G42: ← | H42: 12. Проставьте контингент 10-11 классов в ячейки (при наличии)
A43: 5 - 9 классы | E43: =B43+C43+D43 -> 0
A44: 10 - 11 классы | E44: =B44+C44+D44 -> 0
A45: Всего Контингент | B45: =SUM(B42:B44) -> 0 | C45: =SUM(C42:C44) -> 0 | D45: =SUM(D42:D44) -> 0 | E45: =E42+E43+E44 -> 0
A47: Для третьей смены
A48: Уровень образования | B48: учащиеся общеобразовательных классов, в т.ч.: | D48: учащиеся коррекционных классов | E48: ИТОГО | G48: ← | H48: 13. Проставьте контингент 1-4 классов в ячейки (при наличии)
B49: нормотипичные учащиеся | C49: учащиеся с ООП в общеобразователь-ных классах | G49: ← | H49: 14. Проставьте контингент 5-9 классов в ячейки (при наличии)
A50: 1 - 4 классы | E50: =B50+C50+D50 -> 0 | G50: ← | H50: 15. Проставьте контингент 10-11 классов в ячейки (при наличии)
...

Sheet Расчет
A1: 1. Расчет объема подушевого финансирования без учета капитальных затрат
A3: Уровень образования | B3: уч-ся общеобр. классов | C3: дети с ООП в общеобр. классах | D3: уч-ся коррекц. классов | E3: ИТОГО
A4: 1 - 4 классы | B4: =ROUND((IF(AND('Расчет объема финансирования'!$A$9="город",'Расчет объема финансирования'!$A$12="Без доплат"),формула!$B$5*'Расчет объема финансирования'!B58)+IF(AND('Расчет объема финансирования'!$A$9="город",'Расчет объема финансирования'!$A$12="экология"),формула!$B$12*'Расчет объема финансирования'!B58)+IF(AND('Расчет объема финансирования'!$A$9="город",'Расчет объема финансирования'!$A$12="радиация"),формула!$B$19*'Расчет объема финансирования'!B58)+IF(AND('Расчет объема финансирования'!$A$9="село",'Расчет объема финансирования'!$A$12="Без доплат"),формула!$M$5*'Расчет объема финансирования'!B58)+IF(AND('Расчет объема финансирования'!$A$9="село",'Расчет объема финансирования'!$A$12="экология"),формула!$M$12*'Расчет объема финансирования'!B58)+IF(AND('Расчет объема финансирования'!$A$9="село",'Расчет объема финансирования'!$A$12="радиация"),формула!$M$19*'Расчет объема финансирования'!B58)),2) -> 0 | C4: =ROUND((IF(AND('Расчет объема финансирования'!$A$9="город",'Расчет объема финансирования'!$A$12="без доплат"),формула!$B$6*'Расчет объема финансирования'!C58)+IF(AND('Расчет объема финансирования'!$A$9="город",'Расчет объема финансирования'!$A$12="экология"),формула!$B$13*'Расчет объема финансирования'!C58)+IF(AND('Расчет объема финансирования'!$A$9="город",'Расчет объема финансирования'!$A$12="радиация"),формула!$B$20*'Расчет объема финансирования'!C58)+IF(AND('Расчет объема финансирования'!$A$9="село",'Расчет объема финансирования'!$A$12="без доплат"),формула!$M$6*'Расчет объема финансирования'!C58)+IF(AND('Расчет объема финансирования'!$A$9="село",'Расчет объема финансирования'!$A$12="экология"),формула!$M$13*'Расчет объема финансирования'!C58)+IF(AND('Расчет объема финансирования'!$A$9="село",'Расчет объема финансирования'!$A$12="радиация"),формула!$M$20*'Расчет объема финансирования'!C58)),2) -> 0 | D4: =ROUND((IF(AND('Расчет объема финансирования'!$A$9="город",'Расчет объема финансирования'!$A$12="без доплат"),формула!$E$5*'Расчет объема финансирования'!D58)+IF(AND('Расчет объема финансирования'!$A$9="город",'Расчет объема финансирования'!$A$12="экология"),формула!$E$12*'Расчет объема финансирования'!D58)+IF(AND('Расчет объема финансирования'!$A$9="город",'Расчет объема финансирования'!$A$12="радиация"),формула!$E$19*'Расчет объема финансирования'!D58)+IF(AND('Расчет объема финансирования'!$A$9="село",'Расчет объема финансирования'!$A$12="без доплат"),формула!$P$5*'Расчет объема финансирования'!D58)+IF(AND('Расчет объема финансирования'!$A$9="село",'Расчет объема финансирования'!$A$12="экология"),формула!$P$12*'Расчет объема финансирования'!D58)+IF(AND('Расчет объема финансирования'!$A$9="село",'Расчет объема финансирования'!$A$12="радиация"),формула!$P$19*'Расчет объема финансирования'!D58)),2) -> 0 | E4: =B4+C4+D4 -> 0
A5: 5 - 9 классы | B5: =ROUND((IF(AND('Расчет объема финансирования'!$A$9="город",'Расчет объема финансирования'!$A$12="Без доплат"),формула!$C$5*'Расчет объема финансирования'!B59)+IF(AND('Расчет объема финансирования'!$A$9="город",'Расчет объема финансирования'!$A$12="экология"),формула!$C$12*'Расчет объема финансирования'!B59)+IF(AND('Расчет объема финансирования'!$A$9="город",'Расчет объема финансирования'!$A$12="радиация"),формула!$C$19*'Расчет объема финансирования'!B59)+IF(AND('Расчет объема финансирования'!$A$9="село",'Расчет объема финансирования'!$A$12="Без доплат"),формула!$N$5*'Расчет объема финансирования'!B59)+IF(AND('Расчет объема финансирования'!$A$9="село",'Расчет объема финансирования'!$A$12="экология"),формула!$N$12*'Расчет объема финансирования'!B59)+IF(AND('Расчет объема финансирования'!$A$9="село",'Расчет объема финансирования'!$A$12="радиация"),формула!$N$19*'Расчет объема финансирования'!B59)),2) -> 0 | C5: =ROUND((IF(AND('Расчет объема финансирования'!$A$9="город",'Расчет объема финансирования'!$A$12="без доплат"),формула!$C$6*'Расчет объема финансирования'!C59)+IF(AND('Расчет объема финансирования'!$A$9="город",'Расчет объема финансирования'!$A$12="экология"),формула!$C$13*'Расчет объема финансирования'!C59)+IF(AND('Расчет объема финансирования'!$A$9="город",'Расчет объема финансирования'!$A$12="радиация"),формула!$C$20*'Расчет объема финансирования'!C59)+IF(AND('Расчет объема финансирования'!$A$9="село",'Расчет объема финансирования'!$A$12="без доплат"),формула!$N$6*'Расчет объема финансирования'!C59)+IF(AND('Расчет объема финансирования'!$A$9="село",'Расчет объема финансирования'!$A$12="экология"),формула!$N$13*'Расчет объема финансирования'!C59)+IF(AND('Расчет объема финансирования'!$A$9="село",'Расчет объема финансирования'!$A$12="радиация"),формула!$N$20*'Расчет объема финансирования'!C59)),2) -> 0 | D5: =ROUND((IF(AND('Расчет объема финансирования'!$A$9="город",'Расчет объема финансирования'!$A$12="без доплат"),формула!$F$5*'Расчет объема финансирования'!D59)+IF(AND('Расчет объема финансирования'!$A$9="город",'Расчет объема финансирования'!$A$12="экология"),формула!$F$12*'Расчет объема финансирования'!D59)+IF(AND('Расчет объема финансирования'!$A$9="город",'Расчет объема финансирования'!$A$12="радиация"),формула!$F$19*'Расчет объема финансирования'!D59)+IF(AND('Расчет объема финансирования'!$A$9="село",'Расчет объема финансирования'!$A$12="без доплат"),формула!$Q$5*'Расчет объема финансирования'!D59)+IF(AND('Расчет объема финансирования'!$A$9="село",'Расчет объема финансирования'!$A$12="экология"),формула!$Q$12*'Расчет объема финансирования'!D59)+IF(AND('Расчет объема финансирования'!$A$9="село",'Расчет объема финансирования'!$A$12="радиация"),формула!$Q$19*'Расчет объема финансирования'!D59)),2) -> 0 | E5: =B5+C5+D5 -> 0
A6: 10 - 11 классы | B6: =ROUND((IF(AND('Расчет объема финансирования'!$A$9="город",'Расчет объема финансирования'!$A$12="без доплат"),формула!$D$5*'Расчет объема финансирования'!B60)+IF(AND('Расчет объема финансирования'!$A$9="город",'Расчет объема финансирования'!$A$12="экология"),формула!$D$12*'Расчет объема финансирования'!B60)+IF(AND('Расчет объема финансирования'!$A$9="город",'Расчет объема финансирования'!$A$12="радиация"),формула!$D$19*'Расчет объема финансирования'!B60)+IF(AND('Расчет объема финансирования'!$A$9="село",'Расчет объема финансирования'!$A$12="без доплат"),формула!$O$5*'Расчет объема финансирования'!B60)+IF(AND('Расчет объема финансирования'!$A$9="село",'Расчет объема финансирования'!$A$12="экология"),формула!$O$12*'Расчет объема финансирования'!B60)+IF(AND('Расчет объема финансирования'!$A$9="село",'Расчет объема финансирования'!$A$12="радиация"),формула!$O$19*'Расчет объема финансирования'!B60)),2) -> 0 | C6: =ROUND((IF(AND('Расчет объема финансирования'!$A$9="город",'Расчет объема финансирования'!$A$12="без доплат"),формула!$D$6*'Расчет объема финансирования'!C60)+IF(AND('Расчет объема финансирования'!$A$9="город",'Расчет объема финансирования'!$A$12="экология"),формула!$D$13*'Расчет объема финансирования'!C60)+IF(AND('Расчет объема финансирования'!$A$9="город",'Расчет объема финансирования'!$A$12="радиация"),формула!$D$20*'Расчет объема финансирования'!C60)+IF(AND('Расчет объема финансирования'!$A$9="село",'Расчет объема финансирования'!$A$12="без доплат"),формула!$O$6*'Расчет объема финансирования'!C60)+IF(AND('Расчет объема финансирования'!$A$9="село",'Расчет объема финансирования'!$A$12="экология"),формула!$O$13*'Расчет объема финансирования'!C60)+IF(AND('Расчет объема финансирования'!$A$9="село",'Расчет объема финансирования'!$A$12="радиация"),формула!$O$20*'Расчет объема финансирования'!C60)),2) -> 0 | D6: =ROUND((IF(AND('Расчет объема финансирования'!$A$9="город",'Расчет объема финансирования'!$A$12="без доплат"),формула!$G$5*'Расчет объема финансирования'!D60)+IF(AND('Расчет объема финансирования'!$A$9="город",'Расчет объема финансирования'!$A$12="экология"),формула!$G$12*'Расчет объема финансирования'!D60)+IF(AND('Расчет объема финансирования'!$A$9="город",'Расчет объема финансирования'!$A$12="радиация"),формула!$G$19*'Расчет объема финансирования'!D60)+IF(AND('Расчет объема финансирования'!$A$9="село",'Расчет объема финансирования'!$A$12="без доплат"),формула!$R$5*'Расчет объема финансирования'!D60)+IF(AND('Расчет объема финансирования'!$A$9="село",'Расчет объема финансирования'!$A$12="экология"),формула!$R$12*'Расчет объема финансирования'!D60)+IF(AND('Расчет объема финансирования'!$A$9="село",'Расчет объема финансирования'!$A$12="радиация"),формула!$R$19*'Расчет объема финансирования'!D60)),2) -> 0 | E6: =B6+C6+D6 -> 0
A7: Объем подушевого финансирования без капитальных затрат | E7: =E4+E5+E6 -> 0
A9: 2. Расчет коммунальных затрат
A11: Группа | B11: Норматив | C11: Объем комм.затрат
A12: ='Расчет объема финансирования'!A15 -> 0 | B12: =IF(A12="1 группа",формула!C24,IF(A12="2 группа",формула!C25,IF(A12="3 группа",формула!C26,IF(A12="4 группа",формула!C27,IF(A12="5 группа",формула!C28,))))) -> 0 | C12: =ROUND(B12*'Расчет объема финансирования'!E61,2) -> 0
A14: 3. Расчет расходов на питание
A16: Группа | B16: Норматив | C16: Объем комм.затрат
A17: ='Расчет объема финансирования'!A22 -> 0 | B17: =IF(A17="1 группа",формула!C37,IF(A17="2 группа",формула!C38,IF(A17="3 группа",формула!C39,))) -> 0 | C17: =ROUND(B17*'Расчет объема финансирования'!E61,2) -> 0
A19: 4. Расчет объема капитальных затрат
A21: Всего контингент | B21: Норматив на капитальные расходы | C21: Кап. расходы
A22: ='Расчет объема финансирования'!E61 -> 0 | B22: =формула!$B$31 -> 56316 | C22: =A22*B22 -> 0
A24: 5. Объем подушевого финансирования
A26: Объем ПФ без капов | B26: Кап. расходы | C26: ИТОГО объем подушевого финансирования
A27: =E7+C12+C17 -> 0 | B27: =C22 -> 0 | C27: =A27+B27 -> 0
A29: 6. Объем амортизационных затрат
A31: Способ введения новых мест | B31: Норматив | C31: Контингент | D31: ИТОГО объем подушевого финансирования
A32: ='Расчет объема финансирования'!A27 -> 0 | B32: =IF($A$32="строительство",формула!B32,0)+IF($A$32="реконструкция",формула!B33,0) -> 0 | C32: =IF('Расчет объема финансирования'!$F$6<='Расчет объема финансирования'!E61,'Расчет объема финансирования'!$F$6,0)+IF('Расчет объема финансирования'!F6>'Расчет объема финансирования'!E61,'Расчет объема финансирования'!E61,0) -> 0 | D32: =ROUND(B32*C32,2) -> 0

Sheet формула
E1: ОБЫЧНЫЕ | P1: ОБЫЧНЫЕ
C2: Общеобразовательные | F2: КРО | I2: На дому | N2: Общеобразовательные | Q2: КРО | T2: На дому
C3: ГОРОД | F3: ГОРОД | I3: ГОРОД | N3: СЕЛО | Q3: СЕЛО | T3: СЕЛО
A4: z | B4: 1-4 классы | C4: 5-9 классы | D4: 10-11 классы | E4: 1-4 классы | F4: 5-9 классы | G4: 10-11 классы | H4: 1-4 классы | I4: 5-9 классы | J4: 10-11 классы | L4: z | M4: 1-4 классы | N4: 5-9 классы | O4: 10-11 классы | P4: 1-4 классы | Q4: 5-9 классы | R4: 10-11 классы | S4: 1-4 классы | T4: 5-9 классы | U4: 10-11 классы
A5: E z + L | B5: 629150 | C5: 788841 | D5: 904898 | E5: 1015561 | F5: 1174949 | G5: 1233743 | H5: 2297692 | I5: 2808470 | J5: 3318787 | L5: E z + L | M5: 759989 | N5: 987848 | O5: 1153273 | P5: 1142590 | Q5: 1331054 | R5: 1400574 | S5: 2670067 | T5: 3274021 | U5: 3877432
A6: E z (ООП) + L | B6: 944718 | C6: 1264100 | D6: 1496214 | L6: E z (ООП) + L | M6: 1206396 | N6: 1662114 | O6: 1992964
F8: ЭКОЛОГИЯ | Q8: ЭКОЛОГИЯ
C9: Общеобразовательные | F9: КРО | I9: На дому | N9: Общеобразовательные | Q9: КРО | T9: На дому
C10: ГОРОД | F10: ГОРОД | I10: ГОРОД | N10: СЕЛО | Q10: СЕЛО | T10: СЕЛО
A11: z | B11: 1-4 классы | C11: 5-9 классы | D11: 10-11 классы | E11: 1-4 классы | F11: 5-9 классы | G11: 10-11 классы | H11: 1-4 классы | I11: 5-9 классы | J11: 10-11 классы | L11: z | M11: 1-4 классы | N11: 5-9 классы | O11: 10-11 классы | P11: 1-4 классы | Q11: 5-9 классы | R11: 10-11 классы | S11: 1-4 классы | T11: 5-9 классы | U11: 10-11 классы
A12: E z + L | B12: 747763 | C12: 951686 | D12: 1099889 | E12: 1237215 | F12: 1439839 | G12: 1514581 | H12: 2884166 | I12: 3533495 | J12: 4182240 | L12: E z + L | M12: 895672 | N12: 1176734 | O12: 1380783 | P12: 1364245 | Q12: 1595944 | R12: 1681412 | S12: 3256541 | T12: 3999046 | U12: 4740885
A13: E z (ООП) + L | B13: 1149178 | C13: 1557024 | D13: 1853430 | L13: E z (ООП) + L | M13: 1444996 | N13: 2007120 | O13: 2415218
F15: РАДИАЦИЯ | Q15: РАДИАЦИЯ
C16: Общеобразовательные | F16: КРО | I16: На дому | N16: Общеобразовательные | Q16: КРО | T16: На дому
C17: ГОРОД | F17: ГОРОД | I17: ГОРОД | N17: СЕЛО | Q17: СЕЛО | T17: СЕЛО
A18: z | B18: 1-4 классы | C18: 5-9 классы | D18: 10-11 классы | E18: 1-4 классы | F18: 5-9 классы | G18: 10-11 классы | H18: 1-4 классы | I18: 5-9 классы | J18: 10-11 классы | L18: z | M18: 1-4 классы | N18: 5-9 классы | O18: 10-11 классы | P18: 1-4 классы | Q18: 5-9 классы | R18: 10-11 классы | S18: 1-4 классы | T18: 5-9 классы | U18: 10-11 классы
A19: E z + L | B19: 657191 | C19: 823280 | D19: 943987 | E19: 1058507 | F19: 1224149 | G19: 1285250 | H19: 2393409 | I19: 2924227 | J19: 3454568 | L19: E z + L | M19: 790500 | N19: 1026054 | O19: 1197066 | P19: 1185536 | Q19: 1380255 | R19: 1452081 | S19: 2765783 | T19: 3389778 | U19: 4013213
A20: E z (ООП) + L | B20: 985176 | C20: 1317354 | D20: 1558768 | L20: E z (ООП) + L | M20: 1251794 | N20: 1722902 | O20: 2064926
A22: Коммунальные услуги + интернет
A23: Наименование/регион | B23: Коэф-ент | C23: Группы
A24: 1 группа | B24: 7 | C24: =ROUND($B$24*$B$30,2) -> 32851
A25: 2 группа | B25: 9 | C25: =ROUND($B$25*$B$30,2) -> 42237 | H25: Город | I25: Село
A26: 3 группа | B26: 12 | C26: =ROUND($B$26*$B$30,2) -> 56316 | H26: Без доплат | I26: Экология | J26: Радиация
A27: 4 группа | B27: 13 | C27: =ROUND($B$27*$B$30,2) -> 61009 | H27: 1 группа | I27: 2 группа | J27: 3 группа | K27: 4 группа | L27: 5 группа | M27: ком.усл
A28: 5 группа | B28: 16 | C28: =ROUND($B$28*$B$30,2) -> 75088 | H28: Строительство | I28: Реконструкция | L28: А3
A30: МРП | B30: 4693 | H30: 1 группа | I30: 2 группа | J30: 3 группа | L30: питание
A31: A1 Кап.расходы | B31: =ROUND(12*$B$30,0) -> 56316
A32: A3 строит | B32: =ROUND(122*$B$30,0) -> 572546
A33: A3 рекон | B33: =ROUND(47*$B$30,0) -> 220571
A35: Питание
A36: Наименование/регион | B36: Коэф-ент | C36: Группы
A37: 1 группа | B37: 90 | C37: =ROUND($B$37*$B$30,2) -> 422370
A38: 2 группа | B38: 97 | C38: =ROUND($B$38*$B$30,2) -> 455221
A39: 3 группа | B39: 109 | C39: =ROUND($B$39*$B$30,2) -> 511537
