Workbook

Sheet Расчет объема финансирования
A1: РАСЧЕТ ОБЪЕМА ПОДУШЕВОГО ФИНАНСИРОВАНИЯ ДЛЯ ЧАСТНЫХ ШКОЛ НА 2027 ГОД
A3: МРП* | B3: 4693
A4: *значение МРП на 2027 год приведено согласно Прогнозу социально-экономического развития Республики Казахстан на 2027-2029 годы. Размер МРП может быть изменен при утверждении соответствующих параметров республиканского бюджета.
A6: 1. Проектная мощность школы, ученических мест | G6: ← | H6: 1. Проставьте свою проектную мощность в ячейку F6
A8: 2. Территориальная принадлежность (месторасположение: город/село)
G9: ← | H9: 2. Выберите из раскрывающегося списка
A11: 3. Виды доплат (без доплат, экология, радиация)
G12: ← | H12: 3. Выберите из раскрывающегося списка
A14: 4. Группа (в зависимости от нормы расходов на текущее содержание организаций среднего образования )
G15: ← | H15: 4. Выберите из раскрывающегося списка
H16: 1 группа - для Атырауской, Костанайской, Мангистауской областей
A17: 5. Возмещение затрат на строительство/реконструкцию | H17: 2 группа - для Актюбинской, Алматинской, Западно-Казахстанской, Карагандинской, Туркестанской областей и городов Астана, Алматы и Шымкент
H18: 3 группа - для Восточно-Казахстанской, Павлодарской, Северо-Казахстанской областей
H19: 4 группа - для Акмолинской, Жамбылской областей
H20: 5 группа - для Кызылординской области
A21: 6. Прогнозный контингент школы, учащихся
A22: Для первой смены
A23: Уровень образования | B23: учащиеся общеобразовательных классов, в т.ч.: | D23: учащиеся коррекционных классов | E23: обучающиеся на дому | F23: ИТОГО | H23: 5. Выберите из раскрывающегося списка
B24: нормотипичные учащиеся | C24: учащиеся с ООП в общеобразователь-ных классах | H24: (только при условии ввода новых мест)
A25: 1 - 4 классы | F25: =B25+C25+D25+E25 -> 0 | G25: ← | H25: 6. Проставьте контингент 1-4 классов в ячейки B21 C21 D21 E21 (при наличии)
A26: 5 - 9 классы | F26: =B26+C26+D26+E26 -> 0 | G26: ← | H26: 7. Проставьте контингент 5-9 классов в ячейки B22 C22 D22 E22 (при наличии)
A27: 10 - 11 классы | F27: =B27+C27+D27+E27 -> 0 | G27: ← | H27: 8. Проставьте контингент 10-11 классов в ячейки B23 C23 D23 E23 (при наличии)
A28: Всего Контингент | B28: =SUM(B25:B27) -> 0 | C28: =SUM(C25:C27) -> 0 | D28: =SUM(D25:D27) -> 0 | E28: =SUM(E25:E27) -> 0 | F28: =F25+F26+F27 -> 0
A30: Для второй смены
A31: Уровень образования | B31: учащиеся общеобразовательных классов, в т.ч.: | D31: учащиеся коррекционных классов | E31: обучающиеся на дому | F31: ИТОГО
B32: нормотипичные учащиеся | C32: учащиеся с ООП в общеобразователь-ных классах
A33: 1 - 4 классы | F33: =B33+C33+D33+E33 -> 0 | G33: ← | H33: 9. Проставьте контингент 1-4 классов в ячейки B21 C21 D21 E21 (при наличии)
A34: 5 - 9 классы | F34: =B34+C34+D34+E34 -> 0 | G34: ← | H34: 10. Проставьте контингент 5-9 классов в ячейки B22 C22 D22 E22 (при наличии)
A35: 10 - 11 классы | F35: =B35+C35+D35+E35 -> 0 | G35: ← | H35: 11. Проставьте контингент 10-11 классов в ячейки B23 C23 D23 E23 (при наличии)
A36: Всего Контингент | B36: =SUM(B33:B35) -> 0 | C36: =SUM(C33:C35) -> 0 | D36: =SUM(D33:D35) -> 0 | E36: =SUM(E33:E35) -> 0 | F36: =F33+F34+F35 -> 0
A38: Для третьей смены
A39: Уровень образования | B39: учащиеся общеобразовательных классов, в т.ч.: | D39: учащиеся коррекционных классов | E39: обучающиеся на дому | F39: ИТОГО
B40: нормотипичные учащиеся | C40: учащиеся с ООП в общеобразователь-ных классах
A41: 1 - 4 классы | F41: =B41+C41+D41+E41 -> 0 | G41: ← | H41: 12. Проставьте контингент 1-4 классов в ячейки B21 C21 D21 E21 (при наличии)
A42: 5 - 9 классы | F42: =B42+C42+D42+E42 -> 0 | G42: ← | H42: 13. Проставьте контингент 5-9 классов в ячейки B22 C22 D22 E22 (при наличии)
A43: 10 - 11 классы | F43: =B43+C43+D43+E43 -> 0 | G43: ← | H43: 14. Проставьте контингент 10-11 классов в ячейки B23 C23 D23 E23 (при наличии)
A44: Всего Контингент | B44: =SUM(B41:B43) -> 0 | C44: =SUM(C41:C43) -> 0 | D44: =SUM(D41:D43) -> 0 | E44: =SUM(E41:E43) -> 0 | F44: =F41+F42+F43 -> 0
A46: Общий коентингент
A47: Уровень образования | B47: учащиеся общеобразовательных классов, в т.ч.: | D47: учащиеся коррекционных классов | E47: обучающиеся на дому | F47: ИТОГО
B48: нормотипичные учащиеся | C48: учащиеся с ООП в общеобразователь-ных классах
...

Sheet Расчет
A1: 1. Расчет объема подушевого финансирования без учета капитальных затрат
A3: Уровень образования | B3: уч-ся общеобр. классов | C3: дети с ООП в общеобр. классах | D3: уч-ся коррекц. классов | E3: обуча-ся на дому | F3: ИТОГО
A4: 1 - 4 классы | B4: =ROUND((IF(AND('Расчет объема финансирования'!$A$9="город",'Расчет объема финансирования'!$A$12="Без доплат"),формула!$B$5*'Расчет объема финансирования'!B49)+IF(AND('Расчет объема финансирования'!$A$9="город",'Расчет объема финансирования'!$A$12="экология"),формула!$B$12*'Расчет объема финансирования'!B49)+IF(AND('Расчет объема финансирования'!$A$9="город",'Расчет объема финансирования'!$A$12="радиация"),формула!$B$19*'Расчет объема финансирования'!B49)+IF(AND('Расчет объема финансирования'!$A$9="село",'Расчет объема финансирования'!$A$12="Без доплат"),формула!$M$5*'Расчет объема финансирования'!B49)+IF(AND('Расчет объема финансирования'!$A$9="село",'Расчет объема финансирования'!$A$12="экология"),формула!$M$12*'Расчет объема финансирования'!B49)+IF(AND('Расчет объема финансирования'!$A$9="село",'Расчет объема финансирования'!$A$12="радиация"),формула!$M$19*'Расчет объема финансирования'!B49)),2) -> 0 | C4: =ROUND((IF(AND('Расчет объема финансирования'!$A$9="город",'Расчет объема финансирования'!$A$12="без доплат"),формула!$B$6*'Расчет объема финансирования'!C49)+IF(AND('Расчет объема финансирования'!$A$9="город",'Расчет объема финансирования'!$A$12="экология"),формула!$B$13*'Расчет объема финансирования'!C49)+IF(AND('Расчет объема финансирования'!$A$9="город",'Расчет объема финансирования'!$A$12="радиация"),формула!$B$20*'Расчет объема финансирования'!C49)+IF(AND('Расчет объема финансирования'!$A$9="село",'Расчет объема финансирования'!$A$12="без доплат"),формула!$M$6*'Расчет объема финансирования'!C49)+IF(AND('Расчет объема финансирования'!$A$9="село",'Расчет объема финансирования'!$A$12="экология"),формула!$M$13*'Расчет объема финансирования'!C49)+IF(AND('Расчет объема финансирования'!$A$9="село",'Расчет объема финансирования'!$A$12="радиация"),формула!$M$20*'Расчет объема финансирования'!C49)),2) -> 0 | D4: =ROUND((IF(AND('Расчет объема финансирования'!$A$9="город",'Расчет объема финансирования'!$A$12="без доплат"),формула!$E$5*'Расчет объема финансирования'!D49)+IF(AND('Расчет объема финансирования'!$A$9="город",'Расчет объема финансирования'!$A$12="экология"),формула!$E$12*'Расчет объема финансирования'!D49)+IF(AND('Расчет объема финансирования'!$A$9="город",'Расчет объема финансирования'!$A$12="радиация"),формула!$E$19*'Расчет объема финансирования'!D49)+IF(AND('Расчет объема финансирования'!$A$9="село",'Расчет объема финансирования'!$A$12="без доплат"),формула!$P$5*'Расчет объема финансирования'!D49)+IF(AND('Расчет объема финансирования'!$A$9="село",'Расчет объема финансирования'!$A$12="экология"),формула!$P$12*'Расчет объема финансирования'!D49)+IF(AND('Расчет объема финансирования'!$A$9="село",'Расчет объема финансирования'!$A$12="радиация"),формула!$P$19*'Расчет объема финансирования'!D49)),2) -> 0 | E4: =ROUND((IF(AND('Расчет объема финансирования'!$A$9="город",'Расчет объема финансирования'!$A$12="без доплат"),формула!$H$5*'Расчет объема финансирования'!E49)+IF(AND('Расчет объема финансирования'!$A$9="город",'Расчет объема финансирования'!$A$12="экология"),формула!$H$12*'Расчет объема финансирования'!E49)+IF(AND('Расчет объема финансирования'!$A$9="город",'Расчет объема финансирования'!$A$12="радиация"),формула!$H$19*'Расчет объема финансирования'!E49)+IF(AND('Расчет объема финансирования'!$A$9="село",'Расчет объема финансирования'!$A$12="без доплат"),формула!$S$5*'Расчет объема финансирования'!E49)+IF(AND('Расчет объема финансирования'!$A$9="село",'Расчет объема финансирования'!$A$12="экология"),формула!$S$12*'Расчет объема финансирования'!E49)+IF(AND('Расчет объема финансирования'!$A$9="село",'Расчет объема финансирования'!$A$12="радиация"),формула!$S$19*'Расчет объема финансирования'!E49)),2) -> 0 | F4: =B4+C4+D4+E4 -> 0
A5: 5 - 9 классы | B5: =ROUND((IF(AND('Расчет объема финансирования'!$A$9="город",'Расчет объема финансирования'!$A$12="Без доплат"),формула!$C$5*'Расчет объема финансирования'!B50)+IF(AND('Расчет объема финансирования'!$A$9="город",'Расчет объема финансирования'!$A$12="экология"),формула!$C$12*'Расчет объема финансирования'!B50)+IF(AND('Расчет объема финансирования'!$A$9="город",'Расчет объема финансирования'!$A$12="радиация"),формула!$C$19*'Расчет объема финансирования'!B50)+IF(AND('Расчет объема финансирования'!$A$9="село",'Расчет объема финансирования'!$A$12="Без доплат"),формула!$N$5*'Расчет объема финансирования'!B50)+IF(AND('Расчет объема финансирования'!$A$9="село",'Расчет объема финансирования'!$A$12="экология"),формула!$N$12*'Расчет объема финансирования'!B50)+IF(AND('Расчет объема финансирования'!$A$9="село",'Расчет объема финансирования'!$A$12="радиация"),формула!$N$19*'Расчет объема финансирования'!B50)),2) -> 0 | C5: =ROUND((IF(AND('Расчет объема финансирования'!$A$9="город",'Расчет объема финансирования'!$A$12="без доплат"),формула!$C$6*'Расчет объема финансирования'!C50)+IF(AND('Расчет объема финансирования'!$A$9="город",'Расчет объема финансирования'!$A$12="экология"),формула!$C$13*'Расчет объема финансирования'!C50)+IF(AND('Расчет объема финансирования'!$A$9="город",'Расчет объема финансирования'!$A$12="радиация"),формула!$C$20*'Расчет объема финансирования'!C50)+IF(AND('Расчет объема финансирования'!$A$9="село",'Расчет объема финансирования'!$A$12="без доплат"),формула!$N$6*'Расчет объема финансирования'!C50)+IF(AND('Расчет объема финансирования'!$A$9="село",'Расчет объема финансирования'!$A$12="экология"),формула!$N$13*'Расчет объема финансирования'!C50)+IF(AND('Расчет объема финансирования'!$A$9="село",'Расчет объема финансирования'!$A$12="радиация"),формула!$N$20*'Расчет объема финансирования'!C50)),2) -> 0 | D5: =ROUND((IF(AND('Расчет объема финансирования'!$A$9="город",'Расчет объема финансирования'!$A$12="без доплат"),формула!$F$5*'Расчет объема финансирования'!D50)+IF(AND('Расчет объема финансирования'!$A$9="город",'Расчет объема финансирования'!$A$12="экология"),формула!$F$12*'Расчет объема финансирования'!D50)+IF(AND('Расчет объема финансирования'!$A$9="город",'Расчет объема финансирования'!$A$12="радиация"),формула!$F$19*'Расчет объема финансирования'!D50)+IF(AND('Расчет объема финансирования'!$A$9="село",'Расчет объема финансирования'!$A$12="без доплат"),формула!$Q$5*'Расчет объема финансирования'!D50)+IF(AND('Расчет объема финансирования'!$A$9="село",'Расчет объема финансирования'!$A$12="экология"),формула!$Q$12*'Расчет объема финансирования'!D50)+IF(AND('Расчет объема финансирования'!$A$9="село",'Расчет объема финансирования'!$A$12="радиация"),формула!$Q$19*'Расчет объема финансирования'!D50)),2) -> 0 | E5: =ROUND((IF(AND('Расчет объема финансирования'!$A$9="город",'Расчет объема финансирования'!$A$12="без доплат"),формула!$I$5*'Расчет объема финансирования'!E50)+IF(AND('Расчет объема финансирования'!$A$9="город",'Расчет объема финансирования'!$A$12="экология"),формула!$I$12*'Расчет объема финансирования'!E50)+IF(AND('Расчет объема финансирования'!$A$9="город",'Расчет объема финансирования'!$A$12="радиация"),формула!$I$19*'Расчет объема финансирования'!E50)+IF(AND('Расчет объема финансирования'!$A$9="село",'Расчет объема финансирования'!$A$12="без доплат"),формула!$T$5*'Расчет объема финансирования'!E50)+IF(AND('Расчет объема финансирования'!$A$9="село",'Расчет объема финансирования'!$A$12="экология"),формула!$T$12*'Расчет объема финансирования'!E50)+IF(AND('Расчет объема финансирования'!$A$9="село",'Расчет объема финансирования'!$A$12="радиация"),формула!$T$19*'Расчет объема финансирования'!E50)),2) -> 0 | F5: =B5+C5+D5+E5 -> 0
A6: 10 - 11 классы | B6: =ROUND((IF(AND('Расчет объема финансирования'!$A$9="город",'Расчет объема финансирования'!$A$12="без доплат"),формула!$D$5*'Расчет объема финансирования'!B51)+IF(AND('Расчет объема финансирования'!$A$9="город",'Расчет объема финансирования'!$A$12="экология"),формула!$D$12*'Расчет объема финансирования'!B51)+IF(AND('Расчет объема финансирования'!$A$9="город",'Расчет объема финансирования'!$A$12="радиация"),формула!$D$19*'Расчет объема финансирования'!B51)+IF(AND('Расчет объема финансирования'!$A$9="село",'Расчет объема финансирования'!$A$12="без доплат"),формула!$O$5*'Расчет объема финансирования'!B51)+IF(AND('Расчет объема финансирования'!$A$9="село",'Расчет объема финансирования'!$A$12="экология"),формула!$O$12*'Расчет объема финансирования'!B51)+IF(AND('Расчет объема финансирования'!$A$9="село",'Расчет объема финансирования'!$A$12="радиация"),формула!$O$19*'Расчет объема финансирования'!B51)),2) -> 0 | C6: =ROUND((IF(AND('Расчет объема финансирования'!$A$9="город",'Расчет объема финансирования'!$A$12="без доплат"),формула!$D$6*'Расчет объема финансирования'!C51)+IF(AND('Расчет объема финансирования'!$A$9="город",'Расчет объема финансирования'!$A$12="экология"),формула!$D$13*'Расчет объема финансирования'!C51)+IF(AND('Расчет объема финансирования'!$A$9="город",'Расчет объема финансирования'!$A$12="радиация"),формула!$D$20*'Расчет объема финансирования'!C51)+IF(AND('Расчет объема финансирования'!$A$9="село",'Расчет объема финансирования'!$A$12="без доплат"),формула!$O$6*'Расчет объема финансирования'!C51)+IF(AND('Расчет объема финансирования'!$A$9="село",'Расчет объема финансирования'!$A$12="экология"),формула!$O$13*'Расчет объема финансирования'!C51)+IF(AND('Расчет объема финансирования'!$A$9="село",'Расчет объема финансирования'!$A$12="радиация"),формула!$O$20*'Расчет объема финансирования'!C51)),2) -> 0 | D6: =ROUND((IF(AND('Расчет объема финансирования'!$A$9="город",'Расчет объема финансирования'!$A$12="без доплат"),формула!$G$5*'Расчет объема финансирования'!D51)+IF(AND('Расчет объема финансирования'!$A$9="город",'Расчет объема финансирования'!$A$12="экология"),формула!$G$12*'Расчет объема финансирования'!D51)+IF(AND('Расчет объема финансирования'!$A$9="город",'Расчет объема финансирования'!$A$12="радиация"),формула!$G$19*'Расчет объема финансирования'!D51)+IF(AND('Расчет объема финансирования'!$A$9="село",'Расчет объема финансирования'!$A$12="без доплат"),формула!$R$5*'Расчет объема финансирования'!D51)+IF(AND('Расчет объема финансирования'!$A$9="село",'Расчет объема финансирования'!$A$12="экология"),формула!$R$12*'Расчет объема финансирования'!D51)+IF(AND('Расчет объема финансирования'!$A$9="село",'Расчет объема финансирования'!$A$12="радиация"),формула!$R$19*'Расчет объема финансирования'!D51)),2) -> 0 | E6: =ROUND((IF(AND('Расчет объема финансирования'!$A$9="город",'Расчет объема финансирования'!$A$12="без доплат"),формула!$J$5*'Расчет объема финансирования'!E51)+IF(AND('Расчет объема финансирования'!$A$9="город",'Расчет объема финансирования'!$A$12="экология"),формула!$J$12*'Расчет объема финансирования'!E51)+IF(AND('Расчет объема финансирования'!$A$9="город",'Расчет объема финансирования'!$A$12="радиация"),формула!$J$19*'Расчет объема финансирования'!E51)+IF(AND('Расчет объема финансирования'!$A$9="село",'Расчет объема финансирования'!$A$12="без доплат"),формула!$U$5*'Расчет объема финансирования'!E51)+IF(AND('Расчет объема финансирования'!$A$9="село",'Расчет объема финансирования'!$A$12="экология"),формула!$U$12*'Расчет объема финансирования'!E51)+IF(AND('Расчет объема финансирования'!$A$9="село",'Расчет объема финансирования'!$A$12="радиация"),формула!$U$19*'Расчет объема финансирования'!E51)),2) -> 0 | F6: =B6+C6+D6+E6 -> 0
A7: Объем подушевого финансирования без капитальных затрат | F7: =F4+F5+F6 -> 0
A9: 2. Расчет коммунальных затрат
A11: Группа | B11: Норматив | C11: Объем комм.затрат
A12: ='Расчет объема финансирования'!A15 -> 0 | B12: =IF(A12="1 группа",формула!C24,IF(A12="2 группа",формула!C25,IF(A12="3 группа",формула!C26,IF(A12="4 группа",формула!C27,IF(A12="5 группа",формула!C28,))))) -> 0 | C12: =ROUND(B12*('Расчет объема финансирования'!F52-'Расчет объема финансирования'!$E$49-'Расчет объема финансирования'!$E$50-'Расчет объема финансирования'!$E$51),2) -> 0
A14: 3. Расчет объема капитальных затрат
A16: Всего контингент | B16: Норматив на капитальные расходы | C16: Кап. расходы
A17: ='Расчет объема финансирования'!F52 -> 0 | B17: =формула!B30*6 -> 28158 | C17: =ROUND(A17*B17,2) -> 0
A19: 4. Объем подушевого финансирования
A21: Объем ПФ без капов | B21: Кап. расходы | C21: ИТОГО объем подушевого финансирования
A22: =F7+C12 -> 0 | B22: =C17 -> 0 | C22: =A22+B22 -> 0
A24: 5. Объем амортизационных затрат
A26: Способ введения новых мест | B26: Норматив | C26: Контингент | D26: ИТОГО объем подушевого финансирования
A27: ='Расчет объема финансирования'!A18 -> 0 | B27: =IF($A$27="строительство",формула!B32,0)+IF($A$27="реконструкция",формула!B33,0) -> 0 | C27: =IF('Расчет объема финансирования'!$F$6<='Расчет объема финансирования'!F52,'Расчет объема финансирования'!$F$6,0)+IF('Расчет объема финансирования'!F6>'Расчет объема финансирования'!F52,'Расчет объема финансирования'!F52,0) -> 0 | D27: =B27*C27 -> 0

Sheet формула
E1: ОБЫЧНЫЕ | P1: ОБЫЧНЫЕ
C2: Общеобразовательные | F2: КРО | I2: На дому | N2: Общеобразовательные | Q2: КРО | T2: На дому
C3: ГОРОД | F3: ГОРОД | I3: ГОРОД | N3: СЕЛО | Q3: СЕЛО | T3: СЕЛО
A4: z | B4: 1-4 классы | C4: 5-9 классы | D4: 10-11 классы | E4: 1-4 классы | F4: 5-9 классы | G4: 10-11 классы | H4: 1-4 классы | I4: 5-9 классы | J4: 10-11 классы | L4: z | M4: 1-4 классы | N4: 5-9 классы | O4: 10-11 классы | P4: 1-4 классы | Q4: 5-9 классы | R4: 10-11 классы | S4: 1-4 классы | T4: 5-9 классы | U4: 10-11 классы
A5: E z + L | B5: 418995 | C5: 578686 | D5: 694743 | E5: 805406 | F5: 964794 | G5: 1023588 | H5: 2118933 | I5: 2629711 | J5: 3140028 | L5: E z + L | M5: 549834 | N5: 777693 | O5: 943118 | P5: 932435 | Q5: 1120899 | R5: 1190419 | S5: 2491308 | T5: 3095262 | U5: 3698673
A6: E z (ООП) + L | B6: 734563 | C6: 1053945 | D6: 1286059 | L6: E z (ООП) + L | M6: 996241 | N6: 1451959 | O6: 1782809
F8: ЭКОЛОГИЯ | Q8: ЭКОЛОГИЯ
C9: Общеобразовательные | F9: КРО | I9: На дому | N9: Общеобразовательные | Q9: КРО | T9: На дому
C10: ГОРОД | F10: ГОРОД | I10: ГОРОД | N10: СЕЛО | Q10: СЕЛО | T10: СЕЛО
A11: z | B11: 1-4 классы | C11: 5-9 классы | D11: 10-11 классы | E11: 1-4 классы | F11: 5-9 классы | G11: 10-11 классы | H11: 1-4 классы | I11: 5-9 классы | J11: 10-11 классы | L11: z | M11: 1-4 классы | N11: 5-9 классы | O11: 10-11 классы | P11: 1-4 классы | Q11: 5-9 классы | R11: 10-11 классы | S11: 1-4 классы | T11: 5-9 классы | U11: 10-11 классы
A12: E z + L | B12: 527525 | C12: 731448 | D12: 879651 | E12: 1016977 | F12: 1219601 | G12: 1294343 | H12: 2695324 | I12: 3344653 | J12: 3993398 | L12: E z + L | M12: 675434 | N12: 956496 | O12: 1160545 | P12: 1144007 | Q12: 1375706 | R12: 1461174 | S12: 3067699 | T12: 3810204 | U12: 4552043
A13: E z (ООП) + L | B13: 928940 | C13: 1336786 | D13: 1633192 | L13: E z (ООП) + L | M13: 1224758 | N13: 1786882 | O13: 2194980
F15: РАДИАЦИЯ | Q15: РАДИАЦИЯ
C16: Общеобразовательные | F16: КРО | I16: На дому | N16: Общеобразовательные | Q16: КРО | T16: На дому
C17: ГОРОД | F17: ГОРОД | I17: ГОРОД | N17: СЕЛО | Q17: СЕЛО | T17: СЕЛО
A18: z | B18: 1-4 классы | C18: 5-9 классы | D18: 10-11 классы | E18: 1-4 классы | F18: 5-9 классы | G18: 10-11 классы | H18: 1-4 классы | I18: 5-9 классы | J18: 10-11 классы | L18: z | M18: 1-4 классы | N18: 5-9 классы | O18: 10-11 классы | P18: 1-4 классы | Q18: 5-9 классы | R18: 10-11 классы | S18: 1-4 классы | T18: 5-9 классы | U18: 10-11 классы
A19: E z + L | B19: 442722 | C19: 608811 | D19: 729518 | E19: 844038 | F19: 1009680 | G19: 1070781 | H19: 2210335 | I19: 2741153 | J19: 3271494 | L19: E z + L | M19: 576031 | N19: 811585 | O19: 982597 | P19: 971067 | Q19: 1165786 | R19: 1237612 | S19: 2582709 | T19: 3206704 | U19: 3830139
A20: E z (ООП) + L | B20: 770707 | C20: 1102885 | D20: 1344299 | L20: E z (ООП) + L | M20: 1037325 | N20: 1508433 | O20: 1850457
A22: Коммунальные услуги + интернет
A23: Наименование/регион | B23: Коэф-ент | C23: Группы
A24: 1 группа | B24: 3.5 | C24: =ROUND($B$24*$B$30,0) -> 16426
A25: 2 группа | B25: 4.5 | C25: =ROUND($B$25*$B$30,0) -> 21119 | H25: Город | I25: Село
A26: 3 группа | B26: 6 | C26: =ROUND($B$26*$B$30,0) -> 28158 | H26: Без доплат | I26: Экология | J26: Радиация
A27: 4 группа | B27: 6.5 | C27: =ROUND($B$27*$B$30,0) -> 30505 | H27: 1 группа | I27: 2 группа | J27: 3 группа | K27: 4 группа | L27: 5 группа
A28: 5 группа | B28: 8 | C28: =ROUND($B$28*$B$30,0) -> 37544 | H28: Строительство | I28: Реконструкция
A30: МРП | B30: 4693
A31: A1 Кап.расходы | B31: =ROUND(6*$B$30,0) -> 28158
A32: A2 строит | B32: =ROUND(96*$B$30,0) -> 450528
A33: A2 рекон | B33: =ROUND(47*$B$30,0) -> 220571
