Workbook

Sheet Расчет объема финансирования
A1: РАСЧЕТ ОБЪЕМА ПОДУШЕВОГО ФИНАНСИРОВАНИЯ ДЛЯ ОРГАНИЗАЦИЙ ТиПО НА 2027 ГОД
A3: МРП* | B3: 4693
A4: *значение МРП на 2027 год приведено согласно Прогнозу социально-экономического развития Республики Казахстан на 2027-2029 годы. Размер МРП может быть изменен при утверждении соответствующих параметров республиканского бюджета.
A6: 1. Территориальная принадлежность (месторасположение: город/село)
G7: ← | H7: 1. Выберите из раскрывающегося списка
A9: 2. Виды доплат (без доплат, экология, радиация)
G10: ← | H10: 2. Выберите из раскрывающегося списка
A12: 3. Группа (в зависимости от нормы расходов на текущее содержание организаций)
G13: ← | H13: 3. Выберите из раскрывающегося списка
H14: 1 группа: Мангистауской области, г.Алматы
H15: 2 группа: Алматинской, Актюбинской, Атырауской, Жамбылской, Карагандинской, Кызылординской, Туркестанской областей, г.Астана и Шымкент
H16: 3 группа: ЗКО, Костанайской, Павлодарской, СКО
A17: 4. Прогнозный контингент, обучающихся | H17: 4 группа: Акмолинской, ВКО
A18: Для первой смены
A19: Вид образовательной программы | B19: А | C19: Б | D19: В | E19: Г | F19: ИТОГО
A21: Обычное обучение | F21: =B21+C21+D21+E21 -> 0 | G21: ← | H21: 4. Проставьте контингент в ячейки B18 C18 D18 E18 (при наличии)
A22: Инклюзивное | F22: =B22+C22+D22+E22 -> 0 | G22: ← | H22: 5. Проставьте контингент в ячейки В19 C19 D19 E19 (при наличии)
A23: Индивидуальные занятия | F23: =B23+C23+D23+E23 -> 0 | G23: ← | H23: 6. Проставьте контингент в ячейки В20 С20 D20 Е20 (при наличии)
A24: Всего Контингент | B24: =SUM(B21:B23) -> 0 | C24: =SUM(C21:C23) -> 0 | D24: =SUM(D21:D23) -> 0 | E24: =SUM(E21:E23) -> 0 | F24: =SUM(F21:F23) -> 0
A26: Для второй смены
A27: Вид образовательной программы | B27: А | C27: Б | D27: В | E27: Г | F27: ИТОГО
A29: Обычное обучение | F29: =B29+C29+D29+E29 -> 0 | G29: ← | H29: 7. Проставьте контингент в ячейки B26 C26 D267 E26 (при наличии)
A30: Инклюзивное | F30: =B30+C30+D30+E30 -> 0 | G30: ← | H30: 8. Проставьте контингент в ячейки В27 C27 D27 E27 (при наличии)
A31: Индивидуальные занятия | F31: =B31+C31+D31+E31 -> 0 | G31: ← | H31: 9. Проставьте контингент в ячейки В28 С28 D28 Е28 (при наличии)
A32: Всего Контингент | B32: =SUM(B29:B31) -> 0 | C32: =SUM(C29:C31) -> 0 | D32: =SUM(D29:D31) -> 0 | E32: =SUM(E29:E31) -> 0 | F32: =SUM(F29:F31) -> 0
A34: Для третье смены
A35: Вид образовательной программы | B35: А | C35: Б | D35: В | E35: Г | F35: ИТОГО
A37: Обычное обучение | F37: =B37+C37+D37+E37 -> 0 | G37: ← | H37: 10. Проставьте контингент в ячейки B34 C34 D34 E34(при наличии)
A38: Инклюзивное | F38: =B38+C38+D38+E38 -> 0 | G38: ← | H38: 11. Проставьте контингент в ячейки В35 C35 D35 E35(при наличии)
A39: Индивидуальные занятия | F39: =B39+C39+D39+E39 -> 0 | G39: ← | H39: 12.Проставьте контингент в ячейки В36 С36 D36 Е36 (при наличии)
A40: Всего Контингент | B40: =SUM(B37:B39) -> 0 | C40: =SUM(C37:C39) -> 0 | D40: =SUM(D37:D39) -> 0 | E40: =SUM(E37:E39) -> 0 | F40: =SUM(F37:F39) -> 0
A42: Общий контингент
A43: Вид образовательной программы | B43: А | C43: Б | D43: В | E43: Г | F43: ИТОГО
A45: Обычное обучение | B45: =B21+B29+B37 -> 0 | C45: =C21+C29+C37 -> 0 | D45: =D21+D29+D37 -> 0 | E45: =E21+E29+E37 -> 0 | F45: =B45+C45+D45+E45 -> 0
A46: Инклюзивное | B46: =B22+B30+B38 -> 0 | C46: =C22+C30+C38 -> 0 | D46: =D22+D30+D38 -> 0 | E46: =E22+E30+E38 -> 0 | F46: =B46+C46+D46+E46 -> 0
A47: Индивидуальные занятия | B47: =B23+B31+B39 -> 0 | C47: =C23+C31+C39 -> 0 | D47: =D23+D31+D39 -> 0 | E47: =E23+E31+E39 -> 0 | F47: =B47+C47+D47+E47 -> 0
A48: Всего Контингент | B48: =SUM(B45:B47) -> 0 | C48: =SUM(C45:C47) -> 0 | D48: =SUM(D45:D47) -> 0 | E48: =SUM(E45:E47) -> 0 | F48: =SUM(F45:F47) -> 0
A50: 5. Объем подушевого финансирования (тенге)
A52: ИТОГО ОБЪЕМ ПОДУШЕВОГО ФИНАНСИРОВАНИЯ по первой смене, в год | F52: =IFERROR(ROUND(F24/$F$48*F55,2),) -> 0
A53: ИТОГО ОБЪЕМ ПОДУШЕВОГО ФИНАНСИРОВАНИЯ по второй смене, в год | F53: =IFERROR(ROUND(F32/$F$48*F55,2),) -> 0
...

Sheet Расчет
A1: 1. Расчет объема подушевого финансирования без учета капитальных затрат
A3: Уровень образования | B3: А | C3: Б | D3: В | E3: Г | F3: ИТОГО
A4: Общеобразовательные | B4: =ROUND((IF(AND('Расчет объема финансирования'!$A$7="город",'Расчет объема финансирования'!$A$10="Без доплат"),формула!$B$3*'Расчет объема финансирования'!B45)+IF(AND('Расчет объема финансирования'!$A$7="город",'Расчет объема финансирования'!$A$10="Экология"),формула!$B$9*'Расчет объема финансирования'!B45)+IF(AND('Расчет объема финансирования'!$A$7="город",'Расчет объема финансирования'!$A$10="Радиация"),формула!$B$15*'Расчет объема финансирования'!B45)+IF(AND('Расчет объема финансирования'!$A$7="село",'Расчет объема финансирования'!$A$10="Без доплат"),формула!$H$3*'Расчет объема финансирования'!B45)+IF(AND('Расчет объема финансирования'!$A$7="село",'Расчет объема финансирования'!$A$10="Экология"),формула!$H$9*'Расчет объема финансирования'!B45)+IF(AND('Расчет объема финансирования'!$A$7="село",'Расчет объема финансирования'!$A$10="Радиация"),формула!$H$15*'Расчет объема финансирования'!B45)),2) -> 0 | C4: =ROUND((IF(AND('Расчет объема финансирования'!$A$7="город",'Расчет объема финансирования'!$A$10="Без доплат"),формула!$C$3*'Расчет объема финансирования'!C45)+IF(AND('Расчет объема финансирования'!$A$7="город",'Расчет объема финансирования'!$A$10="Экология"),формула!$C$9*'Расчет объема финансирования'!C45)+IF(AND('Расчет объема финансирования'!$A$7="город",'Расчет объема финансирования'!$A$10="Радиация"),формула!$C$15*'Расчет объема финансирования'!C45)+IF(AND('Расчет объема финансирования'!$A$7="село",'Расчет объема финансирования'!$A$10="Без доплат"),формула!$I$3*'Расчет объема финансирования'!C45)+IF(AND('Расчет объема финансирования'!$A$7="село",'Расчет объема финансирования'!$A$10="Экология"),формула!$I$9*'Расчет объема финансирования'!C45)+IF(AND('Расчет объема финансирования'!$A$7="село",'Расчет объема финансирования'!$A$10="Радиация"),формула!$I$15*'Расчет объема финансирования'!C45)),2) -> 0 | D4: =ROUND((IF(AND('Расчет объема финансирования'!$A$7="город",'Расчет объема финансирования'!$A$10="Без доплат"),формула!$D$3*'Расчет объема финансирования'!D45)+IF(AND('Расчет объема финансирования'!$A$7="город",'Расчет объема финансирования'!$A$10="Экология"),формула!$D$9*'Расчет объема финансирования'!D45)+IF(AND('Расчет объема финансирования'!$A$7="город",'Расчет объема финансирования'!$A$10="Радиация"),формула!$D$15*'Расчет объема финансирования'!D45)+IF(AND('Расчет объема финансирования'!$A$7="село",'Расчет объема финансирования'!$A$10="Без доплат"),формула!$J$3*'Расчет объема финансирования'!D45)+IF(AND('Расчет объема финансирования'!$A$7="село",'Расчет объема финансирования'!$A$10="Экология"),формула!$J$9*'Расчет объема финансирования'!D45)+IF(AND('Расчет объема финансирования'!$A$7="село",'Расчет объема финансирования'!$A$10="Радиация"),формула!$J$15*'Расчет объема финансирования'!D45)),2) -> 0 | E4: =ROUND((IF(AND('Расчет объема финансирования'!$A$7="город",'Расчет объема финансирования'!$A$10="Без доплат"),формула!$E$3*'Расчет объема финансирования'!E45)+IF(AND('Расчет объема финансирования'!$A$7="город",'Расчет объема финансирования'!$A$10="Экология"),формула!$E$9*'Расчет объема финансирования'!E45)+IF(AND('Расчет объема финансирования'!$A$7="город",'Расчет объема финансирования'!$A$10="Радиация"),формула!$E$15*'Расчет объема финансирования'!E45)+IF(AND('Расчет объема финансирования'!$A$7="село",'Расчет объема финансирования'!$A$10="Без доплат"),формула!$K$3*'Расчет объема финансирования'!E45)+IF(AND('Расчет объема финансирования'!$A$7="село",'Расчет объема финансирования'!$A$10="Экология"),формула!$K$9*'Расчет объема финансирования'!E45)+IF(AND('Расчет объема финансирования'!$A$7="село",'Расчет объема финансирования'!$A$10="Радиация"),формула!$K$15*'Расчет объема финансирования'!E45)),2) -> 0 | F4: =ROUND(B4+C4+D4+E4,2) -> 0
A5: ООП | B5: =ROUND((IF(AND('Расчет объема финансирования'!$A$7="город",'Расчет объема финансирования'!$A$10="Без доплат"),формула!$B$4*'Расчет объема финансирования'!B46)+IF(AND('Расчет объема финансирования'!$A$7="город",'Расчет объема финансирования'!$A$10="Экология"),формула!$B$10*'Расчет объема финансирования'!B46)+IF(AND('Расчет объема финансирования'!$A$7="город",'Расчет объема финансирования'!$A$10="Радиация"),формула!$B$16*'Расчет объема финансирования'!B46)+IF(AND('Расчет объема финансирования'!$A$7="село",'Расчет объема финансирования'!$A$10="Без доплат"),формула!$H$4*'Расчет объема финансирования'!B46)+IF(AND('Расчет объема финансирования'!$A$7="село",'Расчет объема финансирования'!$A$10="Экология"),формула!$H$10*'Расчет объема финансирования'!B46)+IF(AND('Расчет объема финансирования'!$A$7="село",'Расчет объема финансирования'!$A$10="Радиация"),формула!$H$16*'Расчет объема финансирования'!B46)),2) -> 0 | C5: =ROUND((IF(AND('Расчет объема финансирования'!$A$7="город",'Расчет объема финансирования'!$A$10="Без доплат"),формула!$C$4*'Расчет объема финансирования'!C46)+IF(AND('Расчет объема финансирования'!$A$7="город",'Расчет объема финансирования'!$A$10="Экология"),формула!$C$10*'Расчет объема финансирования'!C46)+IF(AND('Расчет объема финансирования'!$A$7="город",'Расчет объема финансирования'!$A$10="Радиация"),формула!$C$16*'Расчет объема финансирования'!C46)+IF(AND('Расчет объема финансирования'!$A$7="село",'Расчет объема финансирования'!$A$10="Без доплат"),формула!$I$4*'Расчет объема финансирования'!C46)+IF(AND('Расчет объема финансирования'!$A$7="село",'Расчет объема финансирования'!$A$10="Экология"),формула!$I$10*'Расчет объема финансирования'!C46)+IF(AND('Расчет объема финансирования'!$A$7="село",'Расчет объема финансирования'!$A$10="Радиация"),формула!$I$16*'Расчет объема финансирования'!C46)),2) -> 0 | D5: =ROUND((IF(AND('Расчет объема финансирования'!$A$7="город",'Расчет объема финансирования'!$A$10="Без доплат"),формула!$D$4*'Расчет объема финансирования'!D46)+IF(AND('Расчет объема финансирования'!$A$7="город",'Расчет объема финансирования'!$A$10="Экология"),формула!$D$10*'Расчет объема финансирования'!D46)+IF(AND('Расчет объема финансирования'!$A$7="город",'Расчет объема финансирования'!$A$10="Радиация"),формула!$D$16*'Расчет объема финансирования'!D46)+IF(AND('Расчет объема финансирования'!$A$7="село",'Расчет объема финансирования'!$A$10="Без доплат"),формула!$J$4*'Расчет объема финансирования'!D46)+IF(AND('Расчет объема финансирования'!$A$7="село",'Расчет объема финансирования'!$A$10="Экология"),формула!$J$10*'Расчет объема финансирования'!D46)+IF(AND('Расчет объема финансирования'!$A$7="село",'Расчет объема финансирования'!$A$10="Радиация"),формула!$J$16*'Расчет объема финансирования'!D46)),2) -> 0 | E5: =ROUND((IF(AND('Расчет объема финансирования'!$A$7="город",'Расчет объема финансирования'!$A$10="Без доплат"),формула!$E$4*'Расчет объема финансирования'!E46)+IF(AND('Расчет объема финансирования'!$A$7="город",'Расчет объема финансирования'!$A$10="Экология"),формула!$E$10*'Расчет объема финансирования'!E46)+IF(AND('Расчет объема финансирования'!$A$7="город",'Расчет объема финансирования'!$A$10="Радиация"),формула!$E$16*'Расчет объема финансирования'!E46)+IF(AND('Расчет объема финансирования'!$A$7="село",'Расчет объема финансирования'!$A$10="Без доплат"),формула!$K$4*'Расчет объема финансирования'!E46)+IF(AND('Расчет объема финансирования'!$A$7="село",'Расчет объема финансирования'!$A$10="Экология"),формула!$K$10*'Расчет объема финансирования'!E46)+IF(AND('Расчет объема финансирования'!$A$7="село",'Расчет объема финансирования'!$A$10="Радиация"),формула!$K$16*'Расчет объема финансирования'!E46)),2) -> 0 | F5: =ROUND(B5+C5+D5+E5,2) -> 0
A6: Индивидуальные | B6: =ROUND((IF(AND('Расчет объема финансирования'!$A$7="город",'Расчет объема финансирования'!$A$10="Без доплат"),формула!$B$5*'Расчет объема финансирования'!B47)+IF(AND('Расчет объема финансирования'!$A$7="город",'Расчет объема финансирования'!$A$10="Экология"),формула!$B$11*'Расчет объема финансирования'!B47)+IF(AND('Расчет объема финансирования'!$A$7="город",'Расчет объема финансирования'!$A$10="Радиация"),формула!$B$17*'Расчет объема финансирования'!B47)+IF(AND('Расчет объема финансирования'!$A$7="село",'Расчет объема финансирования'!$A$10="Без доплат"),формула!$H$5*'Расчет объема финансирования'!B47)+IF(AND('Расчет объема финансирования'!$A$7="село",'Расчет объема финансирования'!$A$10="Экология"),формула!$H$11*'Расчет объема финансирования'!B47)+IF(AND('Расчет объема финансирования'!$A$7="село",'Расчет объема финансирования'!$A$10="Радиация"),формула!$H$17*'Расчет объема финансирования'!B47)),2) -> 0 | C6: =ROUND((IF(AND('Расчет объема финансирования'!$A$7="город",'Расчет объема финансирования'!$A$10="Без доплат"),формула!$C$5*'Расчет объема финансирования'!C47)+IF(AND('Расчет объема финансирования'!$A$7="город",'Расчет объема финансирования'!$A$10="Экология"),формула!$C$11*'Расчет объема финансирования'!C47)+IF(AND('Расчет объема финансирования'!$A$7="город",'Расчет объема финансирования'!$A$10="Радиация"),формула!$C$17*'Расчет объема финансирования'!C47)+IF(AND('Расчет объема финансирования'!$A$7="село",'Расчет объема финансирования'!$A$10="Без доплат"),формула!$I$5*'Расчет объема финансирования'!C47)+IF(AND('Расчет объема финансирования'!$A$7="село",'Расчет объема финансирования'!$A$10="Экология"),формула!$I$11*'Расчет объема финансирования'!C47)+IF(AND('Расчет объема финансирования'!$A$7="село",'Расчет объема финансирования'!$A$10="Радиация"),формула!$I$17*'Расчет объема финансирования'!C47)),2) -> 0 | D6: =ROUND((IF(AND('Расчет объема финансирования'!$A$7="город",'Расчет объема финансирования'!$A$10="Без доплат"),формула!$D$5*'Расчет объема финансирования'!D47)+IF(AND('Расчет объема финансирования'!$A$7="город",'Расчет объема финансирования'!$A$10="Экология"),формула!$D$11*'Расчет объема финансирования'!D47)+IF(AND('Расчет объема финансирования'!$A$7="город",'Расчет объема финансирования'!$A$10="Радиация"),формула!$D$17*'Расчет объема финансирования'!D47)+IF(AND('Расчет объема финансирования'!$A$7="село",'Расчет объема финансирования'!$A$10="Без доплат"),формула!$J$5*'Расчет объема финансирования'!D47)+IF(AND('Расчет объема финансирования'!$A$7="село",'Расчет объема финансирования'!$A$10="Экология"),формула!$J$11*'Расчет объема финансирования'!D47)+IF(AND('Расчет объема финансирования'!$A$7="село",'Расчет объема финансирования'!$A$10="Радиация"),формула!$J$17*'Расчет объема финансирования'!D47)),2) -> 0 | E6: =ROUND((IF(AND('Расчет объема финансирования'!$A$7="город",'Расчет объема финансирования'!$A$10="Без доплат"),формула!$E$5*'Расчет объема финансирования'!E47)+IF(AND('Расчет объема финансирования'!$A$7="город",'Расчет объема финансирования'!$A$10="Экология"),формула!$E$11*'Расчет объема финансирования'!E47)+IF(AND('Расчет объема финансирования'!$A$7="город",'Расчет объема финансирования'!$A$10="Радиация"),формула!$E$17*'Расчет объема финансирования'!E47)+IF(AND('Расчет объема финансирования'!$A$7="село",'Расчет объема финансирования'!$A$10="Без доплат"),формула!$K$5*'Расчет объема финансирования'!E47)+IF(AND('Расчет объема финансирования'!$A$7="село",'Расчет объема финансирования'!$A$10="Экология"),формула!$K$11*'Расчет объема финансирования'!E47)+IF(AND('Расчет объема финансирования'!$A$7="село",'Расчет объема финансирования'!$A$10="Радиация"),формула!$K$17*'Расчет объема финансирования'!E47)),2) -> 0 | F6: =ROUND((B6+C6+D6+E6),2) -> 0
A7: Объем подушевого финансирования без капитальных затрат | F7: =F4+F5+F6 -> 0
A9: 2. Расчет коммунальных затрат
A11: Группа | B11: Норматив | C11: Объем комм.затрат
A12: ='Расчет объема финансирования'!A13 -> 0 | B12: =IF(A12="1 группа",формула!C21,IF(A12="2 группа",формула!C22,IF(A12="3 группа",формула!C23,IF(A12="4 группа",формула!C24,)))) -> 0 | C12: =ROUND((B12*'Расчет объема финансирования'!F48),2) -> 0
A15: 4. Объем подушевого финансирования
A17: ИТОГО объем подушевого финансирования
A18: =F7+C12 -> 0

Sheet формула
B1: обычный регион | H1: обычный регион | L1: (норматив - ком.услуги и интернет)
A2: город | B2: А | C2: Б | D2: В | E2: Г | G2: село | H2: А | I2: Б | J2: В | K2: Г
A3: Общеобразовательные | B3: 335912.09 | C3: 345298.09 | D3: 396921.09 | E3: 514246.09 | G3: Общеобразовательные | H3: 382538.58 | I3: 391924.58 | J3: 443547.58 | K3: 560872.58
A4: ООП | B4: 608196.18 | C4: 626968.18 | D4: 730214.18 | E4: 964864.18 | G4: ООП | H4: 701449.16 | I4: 720221.16 | J4: 823467.16 | K4: 1058117.2
A5: Индивидуальные | B5: 1102350 | C5: 1111736 | D5: 1163359 | E5: 1280684 | G5: Индивидуальные | H5: 1312218.6 | I5: 1321604.6 | J5: 1373227.6 | K5: 1490552.6
B7: экология | H7: экология
A8: город | B8: А | C8: Б | D8: В | E8: Г | G8: село | H8: А | I8: Б | J8: В | K8: Г
A9: Общеобразовательные | B9: 423454.19 | C9: 432840.19 | D9: 484463.19 | E9: 601788.19 | G9: Общеобразовательные | H9: 470080.68 | I9: 479466.68 | J9: 531089.68 | K9: 648414.68
A10: ООП | B10: 762870.16 | C10: 781642.16 | D10: 884888.16 | E10: 1119538.2 | G10: ООП | H10: 856123.14 | I10: 874895.14 | J10: 978141.14 | K10: 1212791.1
A11: Индивидуальные | B11: 1396062.4 | C11: 1405448.4 | D11: 1457071.4 | E11: 1574396.4 | G11: Индивидуальные | H11: 1605930.9 | I11: 1615316.9 | J11: 1666939.9 | K11: 1784264.9
B13: радиация | H13: радиация
A14: город | B14: А | C14: Б | D14: В | E14: Г | G14: село | H14: А | I14: Б | J14: В | K14: Г
A15: Общеобразовательные | B15: 362383.74 | C15: 371769.74 | D15: 423392.74 | E15: 540717.74 | G15: Общеобразовательные | H15: 409010.23 | I15: 418396.23 | J15: 470019.23 | K15: 587344.23
A16: ООП | B16: 651020.52 | C16: 669792.52 | D16: 773038.52 | E16: 1007688.5 | G16: ООП | H16: 744273.5 | I16: 763045.5 | J16: 866291.5 | K16: 1100941.5
A17: Индивидуальные | B17: 1187356.1 | C17: 1196742.1 | D17: 1248365.1 | E17: 1365690.1 | G17: Индивидуальные | H17: 1397224.7 | I17: 1406610.7 | J17: 1458233.7 | K17: 1575558.7
A19: S, в т.ч. комм.усл + интернет | C19: 4693
A20: Коэф-ент | B20: МРП | C20: ГРУППА
A21: 1 группа | B21: 17 | C21: =ROUND($C$19*B21,0) -> 79781 | D21: 1 группа: Мангистауской области, г.Алматы
A22: 2 группа | B22: 22 | C22: =ROUND($C$19*B22,0) -> 103246 | D22: 2 группа: Алматинской, Актюбинской, Атырауской, Жамбылской, Карагандинской, Кызылординской, Туркестанской областей, г.Нур-Султан и Шымкент
A23: 3 группа | B23: 29 | C23: =ROUND($C$19*B23,0) -> 136097 | D23: 3 группа: ЗКО, Костанайской, Павлодарской, СКО
A24: 4 группа | B24: 39 | C24: =ROUND($C$19*B24,0) -> 183027 | D24: 4 группа: Акмолинской, ВКО
B26: Город | C26: Село
B27: Без доплат | C27: Экология | D27: Радиация
B28: 1 группа | C28: 2 группа | D28: 3 группа | E28: 4 группа
